BEGIN:VCALENDAR
VERSION:2.0
PRODID:-//hacksw/handcal//NONSGML v1.0//EN
CALSCALE:GREGORIAN
BEGIN:VEVENT
DTEND:20260507T193000Z
UID: 69ebba7590f14
DTSTAMP:20260424T134613Z
LOCATION:The Gerber Center for Student Life
DESCRIPTION:Augustana will celebrate its retiring faculty and staff at a reception beginning at 2:30 p.m. There will be a brief program honoring retirees at 3 p.m. Refreshments will be served.This year's retirees are:Judy Balandran\, Custodial Zone LeaderRoman Bonzon\, Professor of PhilosophyDeborah Freese\, Custodial ManagerDori Garro\, CSD Billing AssistantJon Hurty\, Henry Veld Professor of Music\, Director of Choral ActivitiesSonja Hurty\, Adjunct Instructor of Voice\, Manager of Choral Performance and OutreachRichard Maloney\, Assistant Football Coach and Instructor of Physical EducationDiane Mueller\, Adjunct Assistant Professor of Math and Computer ScienceJulie Oliger\, Administrative Assistant\, Education DepartmentShara Rangel\, Catering ManagerWendy Wood\, Bookstore Manager
URL;VALUE=URI:https://www.augustana.edu/about-us/events/2026/retirement-celebration
SUMMARY:Retirement celebration
DTSTART:20260507T193000Z
END:VEVENT
END:VCALENDAR
