BEGIN:VCALENDAR
VERSION:2.0
PRODID:-//hacksw/handcal//NONSGML v1.0//EN
CALSCALE:GREGORIAN
BEGIN:VEVENT
DTEND:20260423T210000Z
UID: 69e80b91df8d5
DTSTAMP:20260421T184313Z
LOCATION:Brunner Theatre Center
DESCRIPTION:Poet and novelist Paige Lewis will be the April 23\, 2026\, River Readings guest at Augustana.Lewis is a creative writing professor at the University of Iowa. While the reading is timed to help Augustana celebrate National Poetry Month\, it also coincides with the May arrival of Lewis' first novel\, "Canon" (Viking Press 2026).The River Readings series brings literary artists to campus each year from around the country. These writers of poetry\, fiction and literary nonfiction meet with students in class or other venues to discuss their work and careers.Light refreshments provided.
URL;VALUE=URI:https://www.augustana.edu/about-us/events/2026/river-readings-paige-lewis
SUMMARY:River Readings: Paige Lewis
DTSTART:20260423T210000Z
END:VEVENT
END:VCALENDAR
