BEGIN:VCALENDAR
VERSION:2.0
PRODID:-//hacksw/handcal//NONSGML v1.0//EN
CALSCALE:GREGORIAN
BEGIN:VEVENT
DTEND:20170226T200000Z
UID: 69e922708fc12
DTSTAMP:20260422T143304Z
LOCATION:Denkmann Memorial Building
DESCRIPTION:Horn Fourtune will spotlight the Quad City Symphony's horn section in this&nbsp\;Signature Series concert\, sponsored by the symphony and WVIK\, Quad Cities NPR.\n\nHorn musicians Marc Zyla\,&nbsp\;Peter Kortenkamp\,&nbsp\;Stephen Burian and Allison Tutton will be featured.\n\n• Program\n\n&nbsp\;\n
URL;VALUE=URI:https://www.augustana.edu/about-us/events/2017/signature-series-horn-fourtune
SUMMARY:Signature Series: Horn Fourtune
DTSTART:20170226T200000Z
END:VEVENT
END:VCALENDAR
