BEGIN:VCALENDAR
VERSION:2.0
PRODID:-//hacksw/handcal//NONSGML v1.0//EN
CALSCALE:GREGORIAN
BEGIN:VEVENT
DTEND:20260416T230000Z
UID: 69e947c40cd17
DTSTAMP:20260422T171220Z
LOCATION:The Gerber Center for Student Life
DESCRIPTION:At ReSearch/ReWrite\, a library research assistant and a Reading/Writing center tutor will be teaming up from 6-7 p.m. in the Brew. They can help you with finding sources\, getting started on a paper\, or using some new note-taking strategies. Stop by for a few minutes or stay for an hour.
URL;VALUE=URI:https://www.augustana.edu/about-us/events/2026/researchrewrite
SUMMARY:ReSearch/ReWrite
DTSTART:20260416T230000Z
END:VEVENT
END:VCALENDAR
