BEGIN:VCALENDAR
VERSION:2.0
PRODID:-//hacksw/handcal//NONSGML v1.0//EN
CALSCALE:GREGORIAN
BEGIN:VEVENT
DTEND:20260427T000000Z
UID: 69e947402153e
DTSTAMP:20260422T171008Z
LOCATION:Denkmann Memorial Building
DESCRIPTION:The Office of Sexual Assault Prevention &amp\; Education will host Take Back the Night\, an event inviting attendees to take a stand against sexual violence and march with their peers. The evening will create space for solidarity\, awareness\, and collective action.This is one of the events during Culture &amp\; Connection Week April 17-26.
URL;VALUE=URI:https://www.augustana.edu/about-us/events/2026/take-back-night
SUMMARY:Take Back the Night
DTSTART:20260427T000000Z
END:VEVENT
END:VCALENDAR
