BEGIN:VCALENDAR
VERSION:2.0
PRODID:-//hacksw/handcal//NONSGML v1.0//EN
CALSCALE:GREGORIAN
BEGIN:VEVENT
DTEND:20260425T003000Z
UID: 69e947c3f2f9b
DTSTAMP:20260422T171219Z
LOCATION:The Gerber Center for Student Life
DESCRIPTION:The Office of International Student and Scholar Services will host an evening of global folklore at The Brew Patio\, where attendees can gather by the bonfire to share stories and enjoy s’mores\, chai\, samosas\, chutney\, and pakora.This is one of the events during Culture &amp\; Connection Week April 17-26.
URL;VALUE=URI:https://www.augustana.edu/about-us/events/2026/folklore-around-globe
SUMMARY:Folklore Around the Globe
DTSTART:20260425T003000Z
END:VEVENT
END:VCALENDAR
