BEGIN:VCALENDAR
VERSION:2.0
PRODID:-//hacksw/handcal//NONSGML v1.0//EN
CALSCALE:GREGORIAN
BEGIN:VEVENT
DTEND:20260423T210000Z
UID: 69e9475f14e77
DTSTAMP:20260422T171039Z
LOCATION:The Gerber Center for Student Life
DESCRIPTION:Campus Ministries will host an opportunity to engage in conversation and connection around faith and lived experiences.This is one of the events during Culture &amp\; Connection Week April 17-26.
URL;VALUE=URI:https://www.augustana.edu/about-us/events/2026/speed-faithing
SUMMARY:Speed Faithing
DTSTART:20260423T210000Z
END:VEVENT
END:VCALENDAR
