BEGIN:VCALENDAR
VERSION:2.0
PRODID:-//hacksw/handcal//NONSGML v1.0//EN
CALSCALE:GREGORIAN
BEGIN:VEVENT
DTEND:20260421T170000Z
UID: 69e9474024d95
DTSTAMP:20260422T171008Z
LOCATION:The Gerber Center for Student Life
DESCRIPTION:The Office of International Student and Scholar Services will host Global Cafe from noon-2 p.m.\, a free gathering where attendees can enjoy global drinks and snacks while connecting with others as part of Culture &amp\; Connection Week.
URL;VALUE=URI:https://www.augustana.edu/about-us/events/2026/global-cafe
SUMMARY:Global Cafe
DTSTART:20260421T170000Z
END:VEVENT
END:VCALENDAR
