BEGIN:VCALENDAR
VERSION:2.0
PRODID:-//hacksw/handcal//NONSGML v1.0//EN
CALSCALE:GREGORIAN
BEGIN:VEVENT
DTEND:20260420T230000Z
UID: 69e9475f123a8
DTSTAMP:20260422T171039Z
LOCATION:Andreen Residence Hall
DESCRIPTION:NAMI on Campus will host a conversation-centered event focused on growth\, identity\, and belonging.This is one of the events during Culture &amp\; Connection Week April 17-26.
URL;VALUE=URI:https://www.augustana.edu/about-us/events/2026/grow-where-youre-planted
SUMMARY:Grow Where You’re Planted
DTSTART:20260420T230000Z
END:VEVENT
END:VCALENDAR
