BEGIN:VCALENDAR
VERSION:2.0
PRODID:-//hacksw/handcal//NONSGML v1.0//EN
CALSCALE:GREGORIAN
BEGIN:VEVENT
DTEND:20260420T223000Z
UID: 69e947318cc7c
DTSTAMP:20260422T170953Z
LOCATION:Black Culture House
DESCRIPTION:The Office of Student Cultural Connection will host Saveurs d’Afrique (Flavors of Africa)\, where attendees can experience African cultures through food\, conversation\, and storytelling. The event will feature dishes\, short personal stories connected to each dish\, and space for attendees to connect through shared culinary traditions. A free meal will be provided.&nbsp\;RSVP is required\, and attendance is limited to 25.&nbsp\;This is one of the events during Culture &amp\; Connection Week April 17-26.
URL;VALUE=URI:https://www.augustana.edu/about-us/events/2026/saveurs-dafrique-flavors-africa
SUMMARY:Saveurs d’Afrique (Flavors of Africa)
DTSTART:20260420T223000Z
END:VEVENT
END:VCALENDAR
