BEGIN:VCALENDAR
VERSION:2.0
PRODID:-//hacksw/handcal//NONSGML v1.0//EN
CALSCALE:GREGORIAN
BEGIN:VEVENT
DTEND:20260429T000000Z
UID: 69e947bd25a05
DTSTAMP:20260422T171213Z
LOCATION:Peter J. Lindberg\, M.D.\, Center for Health and Human Performance
DESCRIPTION:The Sierra Club will hold its weekly meeting to round out Earth Week.
URL;VALUE=URI:https://www.augustana.edu/about-us/events/2026/sierra-club-meeting
SUMMARY:Sierra Club meeting
DTSTART:20260429T000000Z
END:VEVENT
END:VCALENDAR
