BEGIN:VCALENDAR
VERSION:2.0
PRODID:-//hacksw/handcal//NONSGML v1.0//EN
CALSCALE:GREGORIAN
BEGIN:VEVENT
DTEND:20260404T230000Z
UID: 69e95adf1de12
DTSTAMP:20260422T183351Z
LOCATION:Centennial Hall
DESCRIPTION:Augustana Car Club will host the season opener from 6-10 p.m.\, with cool cars and bikes\, as well as food and drink trucks.&nbsp\;
URL;VALUE=URI:https://www.augustana.edu/about-us/events/2026/car-club-season-opener
SUMMARY:Car Club season opener
DTSTART:20260404T230000Z
END:VEVENT
END:VCALENDAR
