BEGIN:VCALENDAR
VERSION:2.0
PRODID:-//hacksw/handcal//NONSGML v1.0//EN
CALSCALE:GREGORIAN
BEGIN:VEVENT
DTEND:20260507T163000Z
UID: 69e967db5e386
DTSTAMP:20260422T192915Z
LOCATION:The Gerber Center for Student Life
DESCRIPTION:Take a break and join us for walking tacos\, consent and mental health trivia\, giveaways\, and an opportunity to support safety and well-beingge on campus.&nbsp\;
URL;VALUE=URI:https://www.augustana.edu/about-us/events/2026/lets-taco-bout-safe-minds-and-safe-spaces
SUMMARY:Let's Taco 'Bout Safe Minds and Safe Spaces
DTSTART:20260507T163000Z
END:VEVENT
END:VCALENDAR
