BEGIN:VCALENDAR
VERSION:2.0
PRODID:-//hacksw/handcal//NONSGML v1.0//EN
CALSCALE:GREGORIAN
BEGIN:VEVENT
DTEND:20260410T180000Z
UID: 69e96871af389
DTSTAMP:20260422T193145Z
LOCATION:Peter J. Lindberg\, M.D.\, Center for Health and Human Performance
DESCRIPTION:This Tea Talk will examine the history and activism within the WNBA. Issues ranging from race\, gender\, pay equity\, and sexuality have been at the forefront of the league since its inception\, and this provides the opportunity to break it all down.Zachary Draves will present. He is a co-founder of the Sport in Society Initiative and sports journalist/featured writer for SB Nation Swish Appeal covering women's basketball week. He is director of Augustana's Office of Sexual Assault Prevention Education.This is one of the Tea Talk series sponsored by the Women\, Gender\, and Sexuality Studies department. The talk will be followed by a roundtable discussion\,Refreshments will be provided.&nbsp\;
URL;VALUE=URI:https://www.augustana.edu/about-us/events/2026/personal-political-how-wnba-players-have-led-way-athlete-activism
SUMMARY:The Personal Is Political: How WNBA Players Have Led the Way in Athlete Activism
DTSTART:20260410T180000Z
END:VEVENT
END:VCALENDAR
