BEGIN:VCALENDAR
VERSION:2.0
PRODID:-//hacksw/handcal//NONSGML v1.0//EN
CALSCALE:GREGORIAN
BEGIN:VEVENT
DTEND:20260331T180000Z
UID: 69e632e3cfb66
DTSTAMP:20260420T090627Z
LOCATION:The Gerber Center for Student Life
DESCRIPTION:After more than 20 years of dedicated service in catering at Augustana\, Shara Rangel will be retiring. Throughout her time here\, she has worked with departments\, faculty\, and staff across campus to help create successful events\, meaningful gatherings\, and memorable celebrations.Dining Services invites the campus community to stop by between 1-4 p.m. to thank her and celebrate.&nbsp\;
URL;VALUE=URI:https://www.augustana.edu/about-us/events/2026/retirement-celebration-shara-rangel
SUMMARY:Retirement celebration for Shara Rangel
DTSTART:20260331T180000Z
END:VEVENT
END:VCALENDAR
