BEGIN:VCALENDAR
VERSION:2.0
PRODID:-//hacksw/handcal//NONSGML v1.0//EN
CALSCALE:GREGORIAN
BEGIN:VEVENT
DTEND:20260401T223000Z
UID: 69e97285765d5
DTSTAMP:20260422T201445Z
LOCATION:The Gerber Center for Student Life
DESCRIPTION:Beyond the White Coat is a 50-minute reflection-based communication workshop designed for undergraduate pre-health students.The workshop will introduce early opportunities for students to practice trust-building\, reflective communication\, and thoughtful responses to health misinformation before entering professional health programs.The session includes a case-based scenario involving patient concerns or health misinformation\, guided discussion questions\, and structured reflection prompts grounded in public health principles and Social Cognitive Theory.All materials and facilitation will be provided. &nbsp\;Students who complete the session will receive a certificate of participation from the Augustana Public Health Department.&nbsp\;
URL;VALUE=URI:https://www.augustana.edu/about-us/events/2026/beyond-white-coat-0
SUMMARY:Beyond the White Coat
DTSTART:20260401T223000Z
END:VEVENT
END:VCALENDAR
