BEGIN:VCALENDAR
VERSION:2.0
PRODID:-//hacksw/handcal//NONSGML v1.0//EN
CALSCALE:GREGORIAN
BEGIN:VEVENT
DTEND:20260401T160000Z
UID: 69e96f0d3482c
DTSTAMP:20260422T195957Z
LOCATION:The Gerber Center for Student Life
DESCRIPTION:The Office of Sexual Assault Prevention Education will be creating and decorating the space of the You Belong Lounge with shirts to show support for victims and survivors of domestic and sexual violence.
URL;VALUE=URI:https://www.augustana.edu/about-us/events/2026/clothesline-project
SUMMARY:Clothesline Project
DTSTART:20260401T160000Z
END:VEVENT
END:VCALENDAR
