BEGIN:VCALENDAR
VERSION:2.0
PRODID:-//hacksw/handcal//NONSGML v1.0//EN
CALSCALE:GREGORIAN
BEGIN:VEVENT
DTEND:20260314T200000Z
UID: 69e96c7787833
DTSTAMP:20260422T194855Z
LOCATION:PepsiCo Recreation Center
DESCRIPTION:Residential Life CAs will host an afternoon gym session and lifting contest for small gifts and prizes. All experience levels are welcome. Drinks and protein bars are provided.
URL;VALUE=URI:https://www.augustana.edu/about-us/events/2026/lift-101-afternoon-gym-session
SUMMARY:Lift-101 afternoon gym session
DTSTART:20260314T200000Z
END:VEVENT
END:VCALENDAR
