BEGIN:VCALENDAR
VERSION:2.0
PRODID:-//hacksw/handcal//NONSGML v1.0//EN
CALSCALE:GREGORIAN
BEGIN:VEVENT
DTEND:20260311T000000Z
UID: 69e98dc01956b
DTSTAMP:20260422T221056Z
LOCATION:Olin Center for Educational Technology
DESCRIPTION:Augustana College will sponsor its annual&nbsp\;Francophone Film Festival&nbsp\;on Tuesdays\,&nbsp\;Feb. 20 to March 19.All films will be shown at 7 p.m. in the Olin Center auditorium. Films are free and open to the public.Film: "When Fall Is Coming"Year: 2024Director: François OzonGenre: DramaLength: 1h 42mPlot summary:&nbsp\;Michelle\, a retiree in Burgundy\, expects her grandson Lucas but a mistake ruins her plans. Her friend Marie-Claude's son is released from prison\, reviving Michelle's purpose.
URL;VALUE=URI:https://www.augustana.edu/about-us/events/2026/francophone-film-festival-when-fall-coming
SUMMARY:Francophone Film Festival: 'When Fall Is Coming'
DTSTART:20260311T000000Z
END:VEVENT
END:VCALENDAR
