BEGIN:VCALENDAR
VERSION:2.0
PRODID:-//hacksw/handcal//NONSGML v1.0//EN
CALSCALE:GREGORIAN
BEGIN:VEVENT
DTEND:20260219T010000Z
UID: 69e9845b73265
DTSTAMP:20260422T213051Z
LOCATION:The Gerber Center for Student Life
DESCRIPTION:Join the Mongolian Student Organization for an evening filled with traditional Mongolian New Year customs\, authentic foods\, cultural performances and interactive activities as we come together to celebrate and welcome the Year of the Horse with our campus community. We look forward to sharing this special cultural experience with you!
URL;VALUE=URI:https://www.augustana.edu/about-us/events/2026/mongolian-lunar-new-year-celebration
SUMMARY:Mongolian Lunar New Year celebration
DTSTART:20260219T010000Z
END:VEVENT
END:VCALENDAR
