BEGIN:VCALENDAR
VERSION:2.0
PRODID:-//hacksw/handcal//NONSGML v1.0//EN
CALSCALE:GREGORIAN
BEGIN:VEVENT
DTEND:20260215T190000Z
UID: 69e9821ccee7f
DTSTAMP:20260422T212116Z
LOCATION:Carlsson Evald Hall
DESCRIPTION:Join OSL from 1-2:30 p.m. for pizza\, bingo and crafts.
URL;VALUE=URI:https://www.augustana.edu/about-us/events/2026/valentines-day-party
SUMMARY:Valentine's Day party
DTSTART:20260215T190000Z
END:VEVENT
END:VCALENDAR
