BEGIN:VCALENDAR
VERSION:2.0
PRODID:-//hacksw/handcal//NONSGML v1.0//EN
CALSCALE:GREGORIAN
BEGIN:VEVENT
DTEND:20260309T200000Z
UID: 69e982d35a136
DTSTAMP:20260422T212419Z
LOCATION:The Gerber Center for Student Life
DESCRIPTION:The president's open office hour will take place Monday\, March 9\, 2026\, 3-4 p.m. in The Brew (The Gerber Center\, 4th floor).Stop by to spend a few minutes with President Talentino and share your thoughts\, ideas\, questions and suggestions.If there is anything you'd like to communicate to President Talentino before that time\, please email kaiswanson@augustana.edu.
URL;VALUE=URI:https://www.augustana.edu/about-us/events/2026/presidents-open-office-hour-students
SUMMARY:President's open office hour for students
DTSTART:20260309T200000Z
END:VEVENT
END:VCALENDAR
