BEGIN:VCALENDAR
VERSION:2.0
PRODID:-//hacksw/handcal//NONSGML v1.0//EN
CALSCALE:GREGORIAN
BEGIN:VEVENT
DTEND:20260206T000000Z
UID: 69e980158fd83
DTSTAMP:20260422T211237Z
LOCATION:PepsiCo Recreation Center
DESCRIPTION:Play ping pong\, pool and video games\, while enjoying some free pizza. This event runs from 6-8 p.m.
URL;VALUE=URI:https://www.augustana.edu/about-us/events/2026/game-night-extravaganza
SUMMARY:Game Night Extravaganza
DTSTART:20260206T000000Z
END:VEVENT
END:VCALENDAR
