BEGIN:VCALENDAR
VERSION:2.0
PRODID:-//hacksw/handcal//NONSGML v1.0//EN
CALSCALE:GREGORIAN
BEGIN:VEVENT
DTEND:20260225T170000Z
UID: 69e98dbf96dbf
DTSTAMP:20260422T221055Z
LOCATION:The Gerber Center for Student Life
DESCRIPTION:This fair\, which runs 11 a.m.-2 p.m.\, will provide information about study abroad/away opportunities during summer 2026\, J-term 2027 and summer 2027. Come learn more about program options from the Office of International and Off-Campus Programs!
URL;VALUE=URI:https://www.augustana.edu/about-us/events/2026/study-away-fair
SUMMARY:Study Away Fair
DTSTART:20260225T170000Z
END:VEVENT
END:VCALENDAR
