BEGIN:VCALENDAR
VERSION:2.0
PRODID:-//hacksw/handcal//NONSGML v1.0//EN
CALSCALE:GREGORIAN
BEGIN:VEVENT
DTEND:20260215T000000Z
UID: 69e6206ccffab
DTSTAMP:20260420T074740Z
LOCATION:
DESCRIPTION:
URL;VALUE=URI:https://www.augustana.edu/about-us/events/2026/vocal-valentines-huckleberrys-pizza
SUMMARY:Vocal Valentines at Huckleberry's Pizza
DTSTART:20260215T000000Z
END:VEVENT
END:VCALENDAR
