BEGIN:VCALENDAR
VERSION:2.0
PRODID:-//hacksw/handcal//NONSGML v1.0//EN
CALSCALE:GREGORIAN
BEGIN:VEVENT
DTEND:20260503T160000Z
UID: 69e9939d212ca
DTSTAMP:20260422T223557Z
LOCATION:Ascension Chapel
DESCRIPTION:Campus Ministries presents Sunday worship with&nbsp\;Pastor Melinda Pupillo.
URL;VALUE=URI:https://www.augustana.edu/about-us/events/2026/festival-worship-2
SUMMARY:Festival Worship
DTSTART:20260503T160000Z
END:VEVENT
END:VCALENDAR
