BEGIN:VCALENDAR
VERSION:2.0
PRODID:-//hacksw/handcal//NONSGML v1.0//EN
CALSCALE:GREGORIAN
BEGIN:VEVENT
DTEND:20260215T170000Z
UID: 69e993f24af17
DTSTAMP:20260422T223722Z
LOCATION:Ascension Chapel
DESCRIPTION:Campus Ministries presents Sunday worship with&nbsp\;Pastor Melinda Pupillo.
URL;VALUE=URI:https://www.augustana.edu/about-us/events/2026/festival-worship
SUMMARY:Festival Worship
DTSTART:20260215T170000Z
END:VEVENT
END:VCALENDAR
