BEGIN:VCALENDAR
VERSION:2.0
PRODID:-//hacksw/handcal//NONSGML v1.0//EN
CALSCALE:GREGORIAN
BEGIN:VEVENT
DTEND:20260113T230000Z
UID: 69e993b22abb8
DTSTAMP:20260422T223618Z
LOCATION:Thomas Tredway Library
DESCRIPTION:The Learning Commons is hosting a Library &amp\; Lounge program from 5-8:30 p.m.Stop by to enjoy a relaxed\, cozy space to unwind\, study or take a break with friends. Viking mentors will be present to answer questions and hang out.Whether you stay for a few minutes or the whole evening\, we’d love to see you there.
URL;VALUE=URI:https://www.augustana.edu/about-us/events/2026/library-and-lounge
SUMMARY:Library and lounge
DTSTART:20260113T230000Z
END:VEVENT
END:VCALENDAR
