BEGIN:VCALENDAR
VERSION:2.0
PRODID:-//hacksw/handcal//NONSGML v1.0//EN
CALSCALE:GREGORIAN
BEGIN:VEVENT
DTEND:20260402T180000Z
UID: 69e99397190b7
DTSTAMP:20260422T223551Z
LOCATION:The Gerber Center for Student Life
DESCRIPTION:Stop by to spend a few minutes with President Talentino and share your thoughts\, ideas\, questions and suggestions. Office hour runs from 1-2 p.m.If there is anything you'd like to communicate to President Talentino before that time\, please email kaiswanson@augustana.edu.
URL;VALUE=URI:https://www.augustana.edu/about-us/events/2026/presidents-open-office-hour
SUMMARY:President's open office hour
DTSTART:20260402T180000Z
END:VEVENT
END:VCALENDAR
