BEGIN:VCALENDAR
VERSION:2.0
PRODID:-//hacksw/handcal//NONSGML v1.0//EN
CALSCALE:GREGORIAN
BEGIN:VEVENT
DTEND:20260117T000000Z
UID: 69e993973fb89
DTSTAMP:20260422T223551Z
LOCATION:Westerlin Residence Center
DESCRIPTION:Interested in Greek Life or curious about the recruitment process? Join Greek Council as they table in the first-year dorms on Jan. 9\, Jan. 16 and Jan. 23\, 6 p.m.-7:30 p.m.! They’ll walk you through what recruitment looks like and answer any questions you may have. There will also be free pizza.If you’re ready to sign up now\, use the following LinkTree to get started with Campus Director! We hope to see you there to grab some pizza\, and learn more about Greek Life at Augustana!
URL;VALUE=URI:https://www.augustana.edu/about-us/events/2026/greek-life-informational-sessions-0
SUMMARY:Greek Life informational sessions
DTSTART:20260117T000000Z
END:VEVENT
END:VCALENDAR
