BEGIN:VCALENDAR
VERSION:2.0
PRODID:-//hacksw/handcal//NONSGML v1.0//EN
CALSCALE:GREGORIAN
BEGIN:VEVENT
DTEND:20260509T190000Z
UID: 69e6200e986ba
DTSTAMP:20260420T074606Z
LOCATION:Wallenberg Hall\, Denkmann Memorial Building
DESCRIPTION:Seniors of the music department will perform a recital with a variety of instruments.
URL;VALUE=URI:https://www.augustana.edu/about-us/events/2026/seniors-recital-concert
SUMMARY:Seniors recital concert
DTSTART:20260509T190000Z
END:VEVENT
END:VCALENDAR
