BEGIN:VCALENDAR
VERSION:2.0
PRODID:-//hacksw/handcal//NONSGML v1.0//EN
CALSCALE:GREGORIAN
BEGIN:VEVENT
DTEND:20260215T220000Z
UID: 69e9a13fe619d
DTSTAMP:20260422T233407Z
LOCATION:NorthPark Mall
DESCRIPTION:Join CORE Careers &amp\; Vocation from 4-6 p.m. for a unique virtual experience blending in-person and online shopping. Students and staff will receive an exclusive voucher to revamp their wardrobes with polished professional attire from JCPenney!Whether you're attending interviews\, internships or networking events\, this is your chance to dress for success.This is an open invitation to the entire campus community and their families.Register on HandshakeTransportation informationFree transportation will be provided for students at the following times:Depart Augie for JCP3:30 p.m.4:30 p.m.5:30 p.m. - Last bus to JCPenneyReturn to Augie from JCP4 p.m.5 p.m.6 p.m. - Bus leaves when all students have boarded
URL;VALUE=URI:https://www.augustana.edu/about-us/events/2026/jcpenney-suit-event
SUMMARY:JCPenney suit-up event
DTSTART:20260215T220000Z
END:VEVENT
END:VCALENDAR
