BEGIN:VCALENDAR
VERSION:2.0
PRODID:-//hacksw/handcal//NONSGML v1.0//EN
CALSCALE:GREGORIAN
BEGIN:VEVENT
DTEND:20260118T000000Z
UID: 69e9a110642b9
DTSTAMP:20260422T233320Z
LOCATION:Olin Center for Educational Technology
DESCRIPTION:The Office of Sexual Assault Prevention Education will be hosting a screening of the movie "Ingrid Goes West" in recognition of Stalking Awareness Month\, followed by a post-screening discussion.
URL;VALUE=URI:https://www.augustana.edu/about-us/events/2026/film-ingrid-goes-west
SUMMARY:Film: 'Ingrid Goes West'
DTSTART:20260118T000000Z
END:VEVENT
END:VCALENDAR
