BEGIN:VCALENDAR
VERSION:2.0
PRODID:-//hacksw/handcal//NONSGML v1.0//EN
CALSCALE:GREGORIAN
BEGIN:VEVENT
DTEND:20260108T230000Z
UID: 69e9a1109900f
DTSTAMP:20260422T233320Z
LOCATION:The Gerber Center for Student Life
DESCRIPTION:In recognition of Stalking Awareness Month\, the Office of Sexual Assault Prevention Education will host a Ribbon Party where participants can come and decorate yellow ribbons on a canvas in solidarity with those impacted by stalking.
URL;VALUE=URI:https://www.augustana.edu/about-us/events/2026/stalking-awareness-month-ribbon-party
SUMMARY:Stalking Awareness Month ribbon party
DTSTART:20260108T230000Z
END:VEVENT
END:VCALENDAR
