BEGIN:VCALENDAR
VERSION:2.0
PRODID:-//hacksw/handcal//NONSGML v1.0//EN
CALSCALE:GREGORIAN
BEGIN:VEVENT
DTEND:20251207T003000Z
UID: 69e6206925215
DTSTAMP:20260420T074737Z
LOCATION:Wallenberg Hall\, Denkmann Memorial Building
DESCRIPTION:Latinx Unidos presents Tribute to Our Lady of Guadalupe on Saturday\, Dec. 6\, at 6:30 p.m. in Wallenberg Hall.Join us for free food\, performances from Quad Cities Bailes Folklorico\, Danza Sta. Maria\, Danza Asuncion and Mariachi\, as well as a blessing from Fr. Mark Stutter.This event is open to all students and members of the community.
URL;VALUE=URI:https://www.augustana.edu/about-us/events/2025/tribute-our-lady-guadalupe
SUMMARY:Tribute to Our Lady of Guadalupe
DTSTART:20251207T003000Z
END:VEVENT
END:VCALENDAR
