BEGIN:VCALENDAR
VERSION:2.0
PRODID:-//hacksw/handcal//NONSGML v1.0//EN
CALSCALE:GREGORIAN
BEGIN:VEVENT
DTEND:20251205T190000Z
UID: 69e622f482b79
DTSTAMP:20260420T075828Z
LOCATION:Bergendoff Hall of Fine Arts
DESCRIPTION:
URL;VALUE=URI:https://www.augustana.edu/about-us/events/2025/guest-artist-talk-yefim-bronfman
SUMMARY:Guest artist talk: Yefim Bronfman
DTSTART:20251205T190000Z
END:VEVENT
END:VCALENDAR
