BEGIN:VCALENDAR
VERSION:2.0
PRODID:-//hacksw/handcal//NONSGML v1.0//EN
CALSCALE:GREGORIAN
BEGIN:VEVENT
DTEND:20251203T170000Z
UID: 69e9a88eb5c06
DTSTAMP:20260423T000518Z
LOCATION:The Gerber Center for Student Life
DESCRIPTION:Join the Office of Sexual Assault Prevention Education in conjunction with the Child Advocacy Center in collecting food and supplies that will be given to the CAC. See event flyer.
URL;VALUE=URI:https://www.augustana.edu/about-us/events/2025/community-food-and-supply-drive
SUMMARY:Community Food and Supply Drive
DTSTART:20251203T170000Z
END:VEVENT
END:VCALENDAR
