BEGIN:VCALENDAR
VERSION:2.0
PRODID:-//hacksw/handcal//NONSGML v1.0//EN
CALSCALE:GREGORIAN
BEGIN:VEVENT
DTEND:20251113T220000Z
UID: 69e9bcf19323d
DTSTAMP:20260423T013217Z
LOCATION:The Gerber Center for Student Life
DESCRIPTION:MPB invites you to a Poetry Slam from 4-6 p.m.\, featuring Rock Island’s own Aubrey Barnes\, a powerful local poet whose work captures emotion\, creativity\, and real-life experiences that will leave you inspired.Want to share your voice? MPB is looking for student performers to step up and share original poetry\, spoken word or meaningful pieces that express who you are and what matters most to you. This is your chance to take the mic\, connect with others\, and let your story be heard. Email Faith Wright (faithwright22@augustana.edu) or Shamar Taylor (shamartaylor24@augustana.edu) to save your spot.
URL;VALUE=URI:https://www.augustana.edu/about-us/events/2025/mpb-poetry-slam
SUMMARY:MPB Poetry Slam
DTSTART:20251113T220000Z
END:VEVENT
END:VCALENDAR
