BEGIN:VCALENDAR
VERSION:2.0
PRODID:-//hacksw/handcal//NONSGML v1.0//EN
CALSCALE:GREGORIAN
BEGIN:VEVENT
DTEND:20251118T193000Z
UID: 69e9bc954cb4c
DTSTAMP:20260423T013045Z
LOCATION:The Gerber Center for Student Life
DESCRIPTION:Stop by to spend a few minutes with President Talentino and share your thoughts\, ideas\, questions and suggestions.If there is anything you’d like to communicate to President Talentino prior to that time\, please email Kai Swanson at kaiswanson@augustana.edu.
URL;VALUE=URI:https://www.augustana.edu/about-us/events/2025/presidents-open-office-hour-students-0
SUMMARY:President's open office hour for students
DTSTART:20251118T193000Z
END:VEVENT
END:VCALENDAR
