BEGIN:VCALENDAR
VERSION:2.0
PRODID:-//hacksw/handcal//NONSGML v1.0//EN
CALSCALE:GREGORIAN
BEGIN:VEVENT
DTEND:20251103T010000Z
UID: 69e9b38892442
DTSTAMP:20260423T005208Z
LOCATION:Old Main 
DESCRIPTION:Learn about the Camino de Santiago study away program to Spain at the information session this Sunday\, Nov. 2\, 7-8 p.m. in Old Main 135.&nbsp\;Students will take a 2-credit course in Spring 2027\, followed by study away pilgrimage northern Spain\, for which students receive an additional 2 credits. The 4-credit course (including the travel component) may be taken to fulfill the Reasoned Examination of Faith (REF) requirement\, as a PH\, or simply as credits well spent while growing in mind\, body and spirit. Including travel\, the trip will last three weeks (late May through mid-June\, 2027). We will be walking about 12-14 miles per day through the culturally rich\, spiritually profound and exquisitely beautiful countryside of Spain for two of those three weeks!Learn more.
URL;VALUE=URI:https://www.augustana.edu/about-us/events/2025/camino-de-santiago-program-info-session
SUMMARY:Camino de Santiago program info session
DTSTART:20251103T010000Z
END:VEVENT
END:VCALENDAR
