BEGIN:VCALENDAR
VERSION:2.0
PRODID:-//hacksw/handcal//NONSGML v1.0//EN
CALSCALE:GREGORIAN
BEGIN:VEVENT
DTEND:20251119T190000Z
UID: 69e9b9ee13e3a
DTSTAMP:20260423T011926Z
LOCATION:Olin Center for Educational Technology
DESCRIPTION:Did you miss the Study Away Fair? Want to chat with study away program leaders in a casual setting? Need help with your study away application? Then stop by our open house anytime between 1-2 p.m. on Wednesday\, Nov. 19\, in the CORE Commons (Olin Center 1st floor). Snacks will be provided!
URL;VALUE=URI:https://www.augustana.edu/about-us/events/2025/study-away-open-house
SUMMARY:Study Away Open House
DTSTART:20251119T190000Z
END:VEVENT
END:VCALENDAR
