BEGIN:VCALENDAR
VERSION:2.0
PRODID:-//hacksw/handcal//NONSGML v1.0//EN
CALSCALE:GREGORIAN
BEGIN:VEVENT
DTEND:20251030T010000Z
UID: 69e9ba44a548d
DTSTAMP:20260423T012052Z
LOCATION:The Gerber Center for Student Life
DESCRIPTION:SLPB presents Fright Night Showdown\, a comedy game night with laughs\, games and cash prizes. Free pizza will be served.
URL;VALUE=URI:https://www.augustana.edu/about-us/events/2025/fright-night-showdown
SUMMARY:Fright Night Showdown
DTSTART:20251030T010000Z
END:VEVENT
END:VCALENDAR
