BEGIN:VCALENDAR
VERSION:2.0
PRODID:-//hacksw/handcal//NONSGML v1.0//EN
CALSCALE:GREGORIAN
BEGIN:VEVENT
DTEND:20251029T160000Z
UID: 69e9bd3e3acc7
DTSTAMP:20260423T013334Z
LOCATION:Viking Plaza
DESCRIPTION:An interactive\, collaborative work that combines the creativity and imagination of the Augustana community. Participants will receive a unique puzzle piece to be decorated\, after which they will attempt to build the full image. The final product will be a puzzle in which each piece is individually customized but comes together to display the unity of our campus through a single image.This activity will take place Oct. 27\, Oct. 28 and Oct. 29\, from 11 a.m.-3:55 p.m. all days. The puzzle will be displayed in Brew by the Slough after it's completed.
URL;VALUE=URI:https://www.augustana.edu/about-us/events/2025/reveal-word-puzzle-1
SUMMARY:Reveal the Word Puzzle
DTSTART:20251029T160000Z
END:VEVENT
END:VCALENDAR
