BEGIN:VCALENDAR
VERSION:2.0
PRODID:-//hacksw/handcal//NONSGML v1.0//EN
CALSCALE:GREGORIAN
BEGIN:VEVENT
DTEND:20251028T170000Z
UID: 69e9bc7258721
DTSTAMP:20260423T013010Z
LOCATION:The Gerber Center for Student Life
DESCRIPTION:Members of the Augustana College community are invited to add to our map of the world showing where people are from or where they have been to. Augustana College will be pinned on the map and participants are invited to stretch strands of yarn from Augie to the places they are from or places they have travelled to. The end result will be a colorful representation of the diversity of Augustana College and how far our community reaches around the world.This activity will take place Oct. 24 from 2-3 p.m. (Gus' Snack Bar)\, Oct. 27 from 4-7 p.m. (The Brew) and Oct. 28 from 12-2 p.m. (The Brew).
URL;VALUE=URI:https://www.augustana.edu/about-us/events/2025/augie-students-marks-world-1
SUMMARY:Augie Students’ Marks on the World
DTSTART:20251028T170000Z
END:VEVENT
END:VCALENDAR
