BEGIN:VCALENDAR
VERSION:2.0
PRODID:-//hacksw/handcal//NONSGML v1.0//EN
CALSCALE:GREGORIAN
BEGIN:VEVENT
DTEND:20251027T191500Z
UID: 69e9c7d994bb4
DTSTAMP:20260423T021849Z
LOCATION:The Gerber Center for Student Life
DESCRIPTION:Participants can add to a large collage composed of personal responses to a given prompt regarding anxiety and depression among individuals. Takes place Oct. 27 and Oct. 29\, 2:15-3:55 p.m. both days.
URL;VALUE=URI:https://www.augustana.edu/about-us/events/2025/mental-health-awareness-collage
SUMMARY:Mental Health Awareness Collage
DTSTART:20251027T191500Z
END:VEVENT
END:VCALENDAR
