BEGIN:VCALENDAR
VERSION:2.0
PRODID:-//hacksw/handcal//NONSGML v1.0//EN
CALSCALE:GREGORIAN
BEGIN:VEVENT
DTEND:20251028T150000Z
UID: 69e9c623c2dec
DTSTAMP:20260423T021131Z
LOCATION:Viking Plaza
DESCRIPTION:Our group is doing a large-scale paint by numbers depicting Old Main in the fall using the Augustana colors. Students and other participants will be able to paint 2-3 squares on a large grid\, with guidance on which colors go where. Participants may also bring blue or yellow items to be added to the composition. We will be distributing a short publication about events in Old Main’s history.The activity will take place Oct. 24\, Oct. 27\, Oct. 28 and Oct 29\, 10 a.m.-2 p.m. all days.
URL;VALUE=URI:https://www.augustana.edu/about-us/events/2025/collaborative-paint-number-1
SUMMARY:Collaborative Paint by Number
DTSTART:20251028T150000Z
END:VEVENT
END:VCALENDAR
