BEGIN:VCALENDAR
VERSION:2.0
PRODID:-//hacksw/handcal//NONSGML v1.0//EN
CALSCALE:GREGORIAN
BEGIN:VEVENT
DTEND:20251105T150000Z
UID: 69e9c604ed78a
DTSTAMP:20260423T021100Z
LOCATION:Centennial Hall
DESCRIPTION:The Rock Island County Health Department will be offering flu shots for Augustana employees and students on Wednesday\, Nov. 5\, 2025\, from 9 a.m. to noon in Centennial Hall. Please enter through the back door of the building and exit through the front. This is a walk-in clinic and no appointment is necessary.Individuals must bring the following items to the clinic:A copy of your insurance card (front and back)\,Completed consent form. Blank consent forms will be available at the clinic as well.This consent form document includes the consent form as well as a list of accepted insurance programs. It is recommended that you call the phone number on your insurance card to make sure the Rock Island County Health Department is in-network and that the flu vaccine is covered\, especially if you have out-of-state insurance. For those enrolled on Augustana medical insurance through UMR this is considered an in-network provider and insurance will be accepted as coverage.If you do not have insurance\, or your insurance is not accepted\, the cost is $66 for the shot payable by cash or check payable to Rock Island County Health Department.Please note: COVID shots are NOT available at this clinic. Please call your provider for more information.If you have any questions\, please reach out to humanresources@augustana.edu.
URL;VALUE=URI:https://www.augustana.edu/about-us/events/2025/flu-shot-clinic
SUMMARY:Flu shot clinic
DTSTART:20251105T150000Z
END:VEVENT
END:VCALENDAR
