BEGIN:VCALENDAR
VERSION:2.0
PRODID:-//hacksw/handcal//NONSGML v1.0//EN
CALSCALE:GREGORIAN
BEGIN:VEVENT
DTEND:20251025T200000Z
UID: 69e9c757a53d0
DTSTAMP:20260423T021639Z
LOCATION:Viking Plaza
DESCRIPTION:Celebrate 150 autumns and Gus’s birthday! Enjoy a day full of fall fun\, featuring pumpkin carving\, bouquet making\, a bouncy house\, a hot dog vendor and more tasty treats from local vendors.
URL;VALUE=URI:https://www.augustana.edu/about-us/events/2025/150-autumns-and-guss-birthday
SUMMARY:150 Autumns and Gus's Birthday
DTSTART:20251025T200000Z
END:VEVENT
END:VCALENDAR
