BEGIN:VCALENDAR
VERSION:2.0
PRODID:-//hacksw/handcal//NONSGML v1.0//EN
CALSCALE:GREGORIAN
BEGIN:VEVENT
DTEND:20251023T000000Z
UID: 69e9c52449f40
DTSTAMP:20260423T020716Z
LOCATION:The Gerber Center for Student Life
DESCRIPTION:Come see John Cassidy for a night of laughs\, comedy magic\, balloon art and more!
URL;VALUE=URI:https://www.augustana.edu/about-us/events/2025/comedy-show-john-cassidy
SUMMARY:Comedy show: John Cassidy
DTSTART:20251023T000000Z
END:VEVENT
END:VCALENDAR
