BEGIN:VCALENDAR
VERSION:2.0
PRODID:-//hacksw/handcal//NONSGML v1.0//EN
CALSCALE:GREGORIAN
BEGIN:VEVENT
DTEND:20251011T150000Z
UID: 69e9c96681688
DTSTAMP:20260423T022526Z
LOCATION:Viking Plaza
DESCRIPTION:Stop by the Quad this Saturday from 10 a.m.-1 p.m. for Fall Fest! Celebrate the season and enjoy the fall-themed activities. There will be hot dogs\, apple cider\, pumpkin painting\, build your own bouquet and more. The first 200 hotdogs are free\, and all donuts are free\, so bring your friends.
URL;VALUE=URI:https://www.augustana.edu/about-us/events/2025/fall-fest
SUMMARY:Fall Fest
DTSTART:20251011T150000Z
END:VEVENT
END:VCALENDAR
